BEGIN:VCALENDAR
VERSION:2.0
PRODID:-//Western-Washtenaw Area Value Express (WAVE) - ECPv6.15.10//NONSGML v1.0//EN
CALSCALE:GREGORIAN
METHOD:PUBLISH
X-WR-CALNAME:Western-Washtenaw Area Value Express (WAVE)
X-ORIGINAL-URL:https://ridethewavebus.org
X-WR-CALDESC:Events for Western-Washtenaw Area Value Express (WAVE)
REFRESH-INTERVAL;VALUE=DURATION:PT1H
X-Robots-Tag:noindex
X-PUBLISHED-TTL:PT1H
BEGIN:VTIMEZONE
TZID:UTC
BEGIN:STANDARD
TZOFFSETFROM:+0000
TZOFFSETTO:+0000
TZNAME:UTC
DTSTART:20250101T000000
END:STANDARD
END:VTIMEZONE
BEGIN:VEVENT
DTSTART;TZID=UTC:20260422T093000
DTEND;TZID=UTC:20260422T110000
DTSTAMP:20260422T011502
CREATED:20260402T170355Z
LAST-MODIFIED:20260402T170355Z
UID:10000110-1776850200-1776855600@ridethewavebus.org
SUMMARY:Board of Directors Meeting
DESCRIPTION:WAVE’s Board meeting is typically scheduled for the fourth Wednesday monthly at 9:30 a.m. in the Meeting Hall of Scio Township Hall\, at 827 N. Zeeb Rd.\, Ann Arbor\, MI 48103.\nThere is also a Zoom option for the public to attend. Please request the password from ride@wavebus.org.\nhttps://us02web.zoom.us/j/89952888449
URL:https://ridethewavebus.org/event/board-of-directors-meeting/2026-04-22/
LOCATION:Scio Township Hall\, 827 N. Zeeb Rd.\, Ann Arbor\, MI\, 48103\, United States
CATEGORIES:Board Meeting,Scio,WAVE Event
ATTACH;FMTTYPE=image/png:https://ridethewavebus.org/wp-content/uploads/2024/10/WAVE-Board-Meeting-Social-Media-Sqaure.png
END:VEVENT
END:VCALENDAR