BEGIN:VCALENDAR
VERSION:2.0
PRODID:-//Western-Washtenaw Area Value Express (WAVE) - ECPv6.15.10//NONSGML v1.0//EN
CALSCALE:GREGORIAN
METHOD:PUBLISH
X-ORIGINAL-URL:https://ridethewavebus.org
X-WR-CALDESC:Events for Western-Washtenaw Area Value Express (WAVE)
REFRESH-INTERVAL;VALUE=DURATION:PT1H
X-Robots-Tag:noindex
X-PUBLISHED-TTL:PT1H
BEGIN:VTIMEZONE
TZID:UTC
BEGIN:STANDARD
TZOFFSETFROM:+0000
TZOFFSETTO:+0000
TZNAME:UTC
DTSTART:20250101T000000
END:STANDARD
END:VTIMEZONE
BEGIN:VEVENT
DTSTART;TZID=UTC:20260818T100000
DTEND;TZID=UTC:20260818T113000
DTSTAMP:20260420T232415
CREATED:20260402T173429Z
LAST-MODIFIED:20260402T173429Z
UID:10000295-1787047200-1787052600@ridethewavebus.org
SUMMARY:Dexter Community Day
DESCRIPTION:🤝 WAVE Community Day 🤝 \nJoin us each month for WAVE Community Day at your local Senior Center—a welcoming time to connect\, learn\, and enjoy the company of your community. \nStop in to meet the WAVE team\, learn more about our services\, and get your questions answered in a relaxed\, friendly setting. Whether you’re a current rider or new to WAVE\, we’re here to help you stay connected and on the move. \nEnjoy:\n💬 Helpful information about WAVE services and how to ride\n🤝 Conversation and connection with neighbors and friends\n🚌 Assistance with signing up \nIt’s more than just a visit—it’s about building relationships and keeping our community moving together. We look forward to seeing you each month!
URL:https://ridethewavebus.org/event/dexter-community-day/2026-08-18/
LOCATION:Dexter Senior Center\, 2810 Baker Rd.\, Suite 101\, Dexter\, 48130\, United States
CATEGORIES:Community Days,Dexter,WAVE Event
ATTACH;FMTTYPE=image/png:https://ridethewavebus.org/wp-content/uploads/2026/04/3.png
END:VEVENT
END:VCALENDAR