BEGIN:VCALENDAR
VERSION:2.0
PRODID:-//Western-Washtenaw Area Value Express (WAVE) - ECPv6.15.10//NONSGML v1.0//EN
CALSCALE:GREGORIAN
METHOD:PUBLISH
X-ORIGINAL-URL:https://ridethewavebus.org
X-WR-CALDESC:Events for Western-Washtenaw Area Value Express (WAVE)
REFRESH-INTERVAL;VALUE=DURATION:PT1H
X-Robots-Tag:noindex
X-PUBLISHED-TTL:PT1H
BEGIN:VTIMEZONE
TZID:UTC
BEGIN:STANDARD
TZOFFSETFROM:+0000
TZOFFSETTO:+0000
TZNAME:UTC
DTSTART:20250101T000000
END:STANDARD
END:VTIMEZONE
BEGIN:VEVENT
DTSTART;TZID=UTC:20261020T100000
DTEND;TZID=UTC:20261020T113000
DTSTAMP:20260421T041633
CREATED:20260402T173429Z
LAST-MODIFIED:20260402T173429Z
UID:10000297-1792490400-1792495800@ridethewavebus.org
SUMMARY:Dexter Community Day
DESCRIPTION:🤝 WAVE Community Day 🤝 \nJoin us each month for WAVE Community Day at your local Senior Center—a welcoming time to connect\, learn\, and enjoy the company of your community. \nStop in to meet the WAVE team\, learn more about our services\, and get your questions answered in a relaxed\, friendly setting. Whether you’re a current rider or new to WAVE\, we’re here to help you stay connected and on the move. \nEnjoy:\n💬 Helpful information about WAVE services and how to ride\n🤝 Conversation and connection with neighbors and friends\n🚌 Assistance with signing up \nIt’s more than just a visit—it’s about building relationships and keeping our community moving together. We look forward to seeing you each month!
URL:https://ridethewavebus.org/event/dexter-community-day/2026-10-20/
LOCATION:Dexter Senior Center\, 2810 Baker Rd.\, Suite 101\, Dexter\, 48130\, United States
CATEGORIES:Community Days,Dexter,WAVE Event
ATTACH;FMTTYPE=image/png:https://ridethewavebus.org/wp-content/uploads/2026/04/3.png
END:VEVENT
BEGIN:VEVENT
DTSTART;TZID=UTC:20261112T170000
DTEND;TZID=UTC:20261112T190000
DTSTAMP:20260421T041633
CREATED:20260402T163319Z
LAST-MODIFIED:20260402T163319Z
UID:10000108-1794502800-1794510000@ridethewavebus.org
SUMMARY:WAVE After Hours
DESCRIPTION:🌙 WAVE After Hours 🌙 \nJoin us for an evening of connection\, conversation\, and community at WAVE After Hours on November 12 at the WAVE office! \nStep inside\, meet the team\, and learn more about how WAVE keeps our communities moving. Whether you’re a longtime rider\, community partner\, or just curious about our services\, this is a great opportunity to connect in a relaxed\, welcoming environment. \nEnjoy:\n✨ Light refreshments🤝 Networking with community members and partners🚌 A closer look at WAVE services and programs💬 Open conversation and Q&A with our team \nCome see what happens behind the scenes and be part of the movement that keeps our communities connected. \nWe can’t wait to welcome you—after hours!
URL:https://ridethewavebus.org/event/wave-after-hours-3/
LOCATION:WAVE Office\, 12172 Jackson Road\, Dexter\, MI\, 48130\, United States
CATEGORIES:Dexter,WAVE Event
ATTACH;FMTTYPE=image/png:https://ridethewavebus.org/wp-content/uploads/2026/04/After-Hours-Social-Media.png
END:VEVENT
END:VCALENDAR