BEGIN:VCALENDAR
VERSION:2.0
PRODID:-//Western-Washtenaw Area Value Express (WAVE) - ECPv6.15.10//NONSGML v1.0//EN
CALSCALE:GREGORIAN
METHOD:PUBLISH
X-WR-CALNAME:Western-Washtenaw Area Value Express (WAVE)
X-ORIGINAL-URL:https://ridethewavebus.org
X-WR-CALDESC:Events for Western-Washtenaw Area Value Express (WAVE)
REFRESH-INTERVAL;VALUE=DURATION:PT1H
X-Robots-Tag:noindex
X-PUBLISHED-TTL:PT1H
BEGIN:VTIMEZONE
TZID:UTC
BEGIN:STANDARD
TZOFFSETFROM:+0000
TZOFFSETTO:+0000
TZNAME:UTC
DTSTART:20240101T000000
END:STANDARD
END:VTIMEZONE
BEGIN:VEVENT
DTSTART;TZID=UTC:20260418T090000
DTEND;TZID=UTC:20260418T130000
DTSTAMP:20260420T182450
CREATED:20260402T182755Z
LAST-MODIFIED:20260402T182755Z
UID:10000411-1776502800-1776517200@ridethewavebus.org
SUMMARY:Dexter Winter Farmers Market
DESCRIPTION:❄️🛍️ WAVE at the Dexter Winter Farmers Market 🛍️❄️ \nStop by and see WAVE at the Dexter Winter Farmers Market! While you shop local and enjoy the market\, swing by our table to learn more about how WAVE keeps our communities connected. \nOur team will be there to:\n🚌 Share information about WAVE services and how to ride🎁 Hand out free swag💬 Answer your questions and help you get signed up🤝 Connect with community members and partners \nWhether you’re a current rider or just curious about what we do\, we’d love to meet you. Come say hello\, grab some goodies\, and learn how WAVE can take you where you need to go!
URL:https://ridethewavebus.org/event/dexter-winter-farmers-market/
CATEGORIES:Dexter
ATTACH;FMTTYPE=image/png:https://ridethewavebus.org/wp-content/uploads/2026/04/Farmer-Market-SM-Square.png
END:VEVENT
BEGIN:VEVENT
DTSTART;TZID=UTC:20260402T184500
DTEND;TZID=UTC:20260402T200000
DTSTAMP:20260420T182450
CREATED:20260402T133446Z
LAST-MODIFIED:20260402T133446Z
UID:10000101-1775155500-1775160000@ridethewavebus.org
SUMMARY:WAVE Presentation to Dexter Lions Club
DESCRIPTION:Join us for a brief WAVE presentation to learn about our services\, routes\, and how we keep our community connected. Ask questions\, explore transportation options\, and discover how WAVE can work for you!
URL:https://ridethewavebus.org/event/wave-presentation-to-dexter-lions-club/
LOCATION:Dexter Senior Center\, 2810 Baker Rd.\, Suite 101\, Dexter\, 48130\, United States
CATEGORIES:Dexter,WAVE Presentation
ATTACH;FMTTYPE=image/png:https://ridethewavebus.org/wp-content/uploads/2026/04/Presentation-SM-Square.png
END:VEVENT
BEGIN:VEVENT
DTSTART;TZID=UTC:20251112T170000
DTEND;TZID=UTC:20251112T190000
DTSTAMP:20260420T182450
CREATED:20251001T234055Z
LAST-MODIFIED:20251022T162037Z
UID:10000094-1762966800-1762974000@ridethewavebus.org
SUMMARY:WAVE After Hours
DESCRIPTION:Step behind the scenes at WAVE! Join us for an informal evening where you can tour our facility\, meet members of the WAVE team\, step inside one of our buses and vans\, and see how we keep Western Washtenaw moving every day. \nEnjoy food and drinks while learning how WAVE operates and the services we provide for riders of all ages. Last year\, our office was packed with community members — don’t miss this chance to connect\, ask questions\, and see public transit in action.
URL:https://ridethewavebus.org/event/wave-after-hours-2/
LOCATION:WAVE Office\, 12172 Jackson Road\, Dexter\, MI\, 48130\, United States
CATEGORIES:Dexter,WAVE Event
ATTACH;FMTTYPE=image/png:https://ridethewavebus.org/wp-content/uploads/2025/10/After-Hours-Social-Media.png
END:VEVENT
BEGIN:VEVENT
DTSTART;TZID=UTC:20251031T130000
DTEND;TZID=UTC:20251031T160000
DTSTAMP:20260420T182450
CREATED:20251001T232250Z
LAST-MODIFIED:20251030T152817Z
UID:10000091-1761915600-1761926400@ridethewavebus.org
SUMMARY:Dexter Trick or Treat
DESCRIPTION:Get ready for a spooktacular time at the Dexter Area Chamber of Commerce Trick-or-Treat Event\, proudly sponsored by Dexter Orthodontics!\nMark your calendars for Friday\, October 31st\, 2025 from 1–4 PM and bring the whole family for an afternoon of Halloween fun.\nLook for businesses with balloons to grab some sweet treats\, and don’t miss even more festivities in Monument Park!
URL:https://ridethewavebus.org/event/dexter-trick-or-treat/
CATEGORIES:Dexter,Haunted Bus
ATTACH;FMTTYPE=image/png:https://ridethewavebus.org/wp-content/uploads/2025/10/Haunted-Bus-Social-Media-.png
END:VEVENT
END:VCALENDAR