BEGIN:VCALENDAR
VERSION:2.0
PRODID:-//Western-Washtenaw Area Value Express (WAVE) - ECPv6.15.10//NONSGML v1.0//EN
CALSCALE:GREGORIAN
METHOD:PUBLISH
X-ORIGINAL-URL:https://ridethewavebus.org
X-WR-CALDESC:Events for Western-Washtenaw Area Value Express (WAVE)
REFRESH-INTERVAL;VALUE=DURATION:PT1H
X-Robots-Tag:noindex
X-PUBLISHED-TTL:PT1H
BEGIN:VTIMEZONE
TZID:UTC
BEGIN:STANDARD
TZOFFSETFROM:+0000
TZOFFSETTO:+0000
TZNAME:UTC
DTSTART:20250101T000000
END:STANDARD
END:VTIMEZONE
BEGIN:VEVENT
DTSTART;TZID=UTC:20260623T100000
DTEND;TZID=UTC:20260623T113000
DTSTAMP:20260421T025506
CREATED:20260402T174234Z
LAST-MODIFIED:20260402T174234Z
UID:10000353-1782208800-1782214200@ridethewavebus.org
SUMMARY:Manchester Community Day
DESCRIPTION:🤝 WAVE Community Day 🤝 \nJoin us each month for WAVE Community Day at your local Senior Center—a welcoming time to connect\, learn\, and enjoy the company of your community. \nStop in to meet the WAVE team\, learn more about our services\, and get your questions answered in a relaxed\, friendly setting. Whether you’re a current rider or new to WAVE\, we’re here to help you stay connected and on the move. \nEnjoy:\n💬 Helpful information about WAVE services and how to ride\n🤝 Conversation and connection with neighbors and friends\n🚌 Assistance with signing up \nIt’s more than just a visit—it’s about building relationships and keeping our community moving together. We look forward to seeing you each month!
URL:https://ridethewavebus.org/event/manchester-community-day-3/2026-06-23/
LOCATION:Manchester Senior Center\, 912 City St.\, Manchester\, 48158\, United States
CATEGORIES:Community Days,Manchester,WAVE Event
ATTACH;FMTTYPE=image/png:https://ridethewavebus.org/wp-content/uploads/2026/04/4.png
END:VEVENT
BEGIN:VEVENT
DTSTART;TZID=UTC:20260926T090000
DTEND;TZID=UTC:20260926T170000
DTSTAMP:20260421T025506
CREATED:20260402T155623Z
LAST-MODIFIED:20260402T155623Z
UID:10000107-1790413200-1790442000@ridethewavebus.org
SUMMARY:Shop & Sip
DESCRIPTION:🛍️✨ WAVE Shop & Sip – Year 3 ✨🛍️ \nIt’s BACK—by popular demand! The event everyone asks for is here for its third year\, and it’s better than ever. Join WAVE for Shop & Sip\, a one-of-a-kind experience celebrating our amazing local communities. \nSpend the day exploring unique resale and consignment shops while enjoying delicious food and drinks from local favorites along the way. Discover hidden gems\, support small businesses\, and make it a fun outing with friends or a perfect day date! \n🍷 Sip as you shop🛍️ Score unique finds at local resale & consignment shops🍴 Enjoy food and drink throughout our communities🎟️ Exclusive discounts available for participants \nWhether you’re hunting for treasures or just soaking in the atmosphere\, this is your chance to experience the best of what our communities have to offer—all in one unforgettable event. \nDon’t miss out on the event everyone’s been waiting for… Shop\, Sip\, and ride with WAVE! 🚍✨
URL:https://ridethewavebus.org/event/shop-sip/
CATEGORIES:Chelsea,Dexter,Grass Lake,Manchester,WAVE Event
ATTACH;FMTTYPE=image/png:https://ridethewavebus.org/wp-content/uploads/2026/04/Shop-Sip.png
END:VEVENT
END:VCALENDAR