BEGIN:VCALENDAR
VERSION:2.0
PRODID:-//Western-Washtenaw Area Value Express (WAVE) - ECPv6.15.10//NONSGML v1.0//EN
CALSCALE:GREGORIAN
METHOD:PUBLISH
X-ORIGINAL-URL:https://ridethewavebus.org
X-WR-CALDESC:Events for Western-Washtenaw Area Value Express (WAVE)
REFRESH-INTERVAL;VALUE=DURATION:PT1H
X-Robots-Tag:noindex
X-PUBLISHED-TTL:PT1H
BEGIN:VTIMEZONE
TZID:UTC
BEGIN:STANDARD
TZOFFSETFROM:+0000
TZOFFSETTO:+0000
TZNAME:UTC
DTSTART:20250101T000000
END:STANDARD
END:VTIMEZONE
BEGIN:VEVENT
DTSTART;TZID=UTC:20260408T120000
DTEND;TZID=UTC:20260408T130000
DTSTAMP:20260421T034658
CREATED:20260402T141611Z
LAST-MODIFIED:20260402T141611Z
UID:10000104-1775649600-1775653200@ridethewavebus.org
SUMMARY:JATA & WAVE Information Session
DESCRIPTION:Join us at the Grass Lake Senior Center on Wednesday\, April 8th\, for an informative transportation session beginning shortly after noon. Representatives from both transportation providers will be on hand to explain available services\, answer your questions\, and gather valuable feedback from the community. This is a great opportunity to learn about your options and share your input to help improve local transportation.
URL:https://ridethewavebus.org/event/jata-wave-information-session/
LOCATION:Grass Lake Senior Center\, 373 Lakeside Dr\, Grass Lake\, MI\, 49240\, United States
CATEGORIES:Grass Lake,WAVE Presentation
ATTACH;FMTTYPE=image/png:https://ridethewavebus.org/wp-content/uploads/2026/04/Learn-more-about-both-services-and-get-your-questions-answered.-1080-x-1080-px.png
END:VEVENT
END:VCALENDAR