BEGIN:VCALENDAR
VERSION:2.0
PRODID:-//Western-Washtenaw Area Value Express (WAVE) - ECPv6.15.10//NONSGML v1.0//EN
CALSCALE:GREGORIAN
METHOD:PUBLISH
X-ORIGINAL-URL:https://ridethewavebus.org
X-WR-CALDESC:Events for Western-Washtenaw Area Value Express (WAVE)
REFRESH-INTERVAL;VALUE=DURATION:PT1H
X-Robots-Tag:noindex
X-PUBLISHED-TTL:PT1H
BEGIN:VTIMEZONE
TZID:UTC
BEGIN:STANDARD
TZOFFSETFROM:+0000
TZOFFSETTO:+0000
TZNAME:UTC
DTSTART:20240101T000000
END:STANDARD
END:VTIMEZONE
BEGIN:VEVENT
DTSTART;TZID=UTC:20251005T120000
DTEND;TZID=UTC:20251005T153000
DTSTAMP:20260421T113729
CREATED:20251001T203524Z
LAST-MODIFIED:20251001T203524Z
UID:10000070-1759665600-1759678200@ridethewavebus.org
SUMMARY:Scio Sustainability Fair
DESCRIPTION:The third annual Scio Sustainability Fair is set to take place on Sunday\, October 5. \nThe event will have various opportunities. \nOrganizers describe it this way: \n“Bring the whole family to play Sustainability Bingo for a prize while engaging with local and county organizations to learn innovative ways to live sustainably and take climate action. Explore local farms\, parks & preserves. Check out the W.A.V.E or a Scio Fire Truck. Seek strategies for improving energy efficiency\, electrifying and deploying renewables. Repair your bike or try out an e-bike. Plan your “GO Bag” for emergencies. Discover multiple ways to compost and test your recycling skills. Join a climate advocacy group. Investigate the benefits of native plants\, pocket forests\, and rain gardens. Talk with members of the East Michigan Electric Vehicle Association and try an EV starting at 11am.” \nIt’s sponsored by the Scio Township Environmental Sustainability Task Force\, East Michigan Electric Vehicle Association and Meijer. \nThe fair is a free educational community event. \nThe event is from 12-3:30 p.m. at the Meijer store\, 5645 Jackson Road. Look for the tent next to the garden shop.
URL:https://ridethewavebus.org/event/scio-sustainability-fair/
LOCATION:Meijer\, 5645 Jackson Road\, Ann Arbor\, MI\, 48103\, United States
ATTACH;FMTTYPE=image/png:https://ridethewavebus.org/wp-content/uploads/2025/10/Scio-Sustainability-Fair.png
END:VEVENT
END:VCALENDAR